BEGIN:VCALENDAR
VERSION:2.0
BEGIN:VEVENT
SUMMARY:RITUALURI - Alto Adige at RIT. Tabieturi Urbane
DESCRIPTION:🍷✨ Trentino-Alto Adige - Ritualuri eno-gastronomice alpine. ✨🍷\n📅 21 mai 2026🕕 19:00⏰ Durată - 3 ore de călătorie senzorială📍 RIT Gastro Caffe\, Iași\n🎟️ Bilete:• 230 lei - Early Bird (27 aprilie - 10 mai)• 250 lei – Standard (11 - 21 mai)Înscrierea este valabilă numai după efectuarea plății pe link-ul de plată de mai jos!\nCe este Ritualuri - Trentino - Alto Adige?\nAl treilea episod din seria "Ritualuri - tabieturi eno-gastronomice din jurul lumii" ne duce in muntii Trentino-Alto Adige\, unde vinurile iau aer de la altitudine\, iar bucataria e o fuziune intre Italia mediteraneana si Tirolul austriac. Canederli\, speck\, gulasch si strudel ne asteapta\, insotite de vinuri de la crama Bottega Vinai (CAVIT). Un episod eveniment care miroase a lemn afumat\, scortisoara si aer curat de munte.\nGhidat de sommelier Vali Tătar\, vei degusta 5 vinuri emblematice și 5 preparate tradiționale care vorbesc despre influentele complexe dintr-o regiune multiculturala.\n🍇 VINURILE:\n1️⃣ MULLER-THURGAU (alb)2️⃣ GEWURZTRAMINER (alb aromatic)3️⃣ PINOT NERO (rosu elegant)4️⃣ LAGREIN DUNKEL (rosu intens)5️⃣ ALTEMASI BRUT (Trentodoc)\n🍽️ PREPARATELE:\n1️⃣ Spatzle verzi cu speck si unt topit2️⃣ "Carne Salada" cu rucola si parmezan3️⃣ Canederli cu speck in unt topit4️⃣ Gulasch tirolese cu polenta5️⃣ Strudel de mere cu inghetata de vanilie\n💡 De ce sa vii?\n✅ Explorezi vinurile alpine de la altitudine: Muller-Thurgau proaspat\, Gewurztraminer aromatic\, Lagrein misterios✅ Inveti cum se potrivesc vinurile de munte cu preparate traditionale tiroleze✅ Descoperi ritualuri locale: masa de duminica cu canederli\, Torggelen de toamna\, stuben-ul de iarna✅ Traiesti\, in 3 ore\, atmosfera tavernelor alpine - fara sa pleci din Iasi\n📌 LOCURI LIMITATE: 16 participanți (format intim pentru interacțiune optimă)\nOrganizat de: Vali Tătar - @The.Winefather ❤️ RIT Gastro Caffe – Tabieturi Urbane\n\n"Ritualuri nu este despre a bea vin și a mânca bine – este despre a înțelege de ce localnicii fac ceea ce fac și cum se bucură ei la masă. Fiecare ritual are o poveste. Fiecare poveste are o lecție."— Vali Tătar\, Sommelier\n\n👉 REZERVĂ-ȚI LOCUL ACUM! 👈\n
DTSTART:20260521T160000Z
DTEND:20260521T190000Z
LOCATION:Strada Cuza Vodă 4\, 700100 Iași\, Romania
END:VEVENT
END:VCALENDAR